BEGIN:VCALENDAR
VERSION:2.0
PRODID:-//pretix//Hacksaar_Tickets//
BEGIN:VTIMEZONE
TZID:Europe/Berlin
BEGIN:STANDARD
DTSTART:20001029T040000
RRULE:FREQ=YEARLY;BYDAY=-1SU;BYMONTH=10
TZNAME:CET
TZOFFSETFROM:+0200
TZOFFSETTO:+0100
END:STANDARD
BEGIN:DAYLIGHT
DTSTART:20000326T030000
RRULE:FREQ=YEARLY;BYDAY=-1SU;BYMONTH=3
TZNAME:CEST
TZOFFSETFROM:+0100
TZOFFSETTO:+0200
END:DAYLIGHT
END:VTIMEZONE
BEGIN:VEVENT
UID:pretix-tks-alpaka25-0@tickets.hacksaar.de
DTSTART;TZID=Europe/Berlin:20250712T150000
DTEND;TZID=Europe/Berlin:20250712T160000
DESCRIPTION:Tickets: https://tickets.hacksaar.de/tks/alpaka25/\nVeranstalte
 r: Technik Kultur Saar e.V.
DTSTAMP:20260419T125114Z
LOCATION:https://webertal-alpakas.de/wegbeschreibung\, https://osm.org/go/0
 DYSQ68g0?layers=N&m=&way=1124814985
SUMMARY:Besuch bei den Webertal-Alpakas
END:VEVENT
END:VCALENDAR
